BEGIN:VCALENDAR
VERSION:2.0
PRODID:-//Weickartshain.de - ECPv6.15.20//NONSGML v1.0//EN
CALSCALE:GREGORIAN
METHOD:PUBLISH
X-WR-CALNAME:Weickartshain.de
X-ORIGINAL-URL:https://weickartshain.de
X-WR-CALDESC:Veranstaltungen für Weickartshain.de
REFRESH-INTERVAL;VALUE=DURATION:PT1H
X-Robots-Tag:noindex
X-PUBLISHED-TTL:PT1H
BEGIN:VTIMEZONE
TZID:Europe/Berlin
BEGIN:DAYLIGHT
TZOFFSETFROM:+0100
TZOFFSETTO:+0200
TZNAME:CEST
DTSTART:20250330T010000
END:DAYLIGHT
BEGIN:STANDARD
TZOFFSETFROM:+0200
TZOFFSETTO:+0100
TZNAME:CET
DTSTART:20251026T010000
END:STANDARD
BEGIN:DAYLIGHT
TZOFFSETFROM:+0100
TZOFFSETTO:+0200
TZNAME:CEST
DTSTART:20260329T010000
END:DAYLIGHT
BEGIN:STANDARD
TZOFFSETFROM:+0200
TZOFFSETTO:+0100
TZNAME:CET
DTSTART:20261025T010000
END:STANDARD
BEGIN:DAYLIGHT
TZOFFSETFROM:+0100
TZOFFSETTO:+0200
TZNAME:CEST
DTSTART:20270328T010000
END:DAYLIGHT
BEGIN:STANDARD
TZOFFSETFROM:+0200
TZOFFSETTO:+0100
TZNAME:CET
DTSTART:20271031T010000
END:STANDARD
END:VTIMEZONE
BEGIN:VEVENT
DTSTART;TZID=Europe/Berlin:20260204T193000
DTEND;TZID=Europe/Berlin:20260204T230000
DTSTAMP:20260422T162657
CREATED:20251204T082637Z
LAST-MODIFIED:20251204T082637Z
UID:6101-1770233400-1770246000@weickartshain.de
SUMMARY:Jahreshauptversammlung
DESCRIPTION:Landfrauen
URL:https://weickartshain.de/veranstaltung/jahreshauptversammlung-17/
LOCATION:DGH
END:VEVENT
BEGIN:VEVENT
DTSTART;TZID=Europe/Berlin:20260207T141100
DTEND;TZID=Europe/Berlin:20260207T191100
DTSTAMP:20260422T162657
CREATED:20260112T140001Z
LAST-MODIFIED:20260112T140001Z
UID:6268-1770473460-1770491460@weickartshain.de
SUMMARY:Kinderfasching
DESCRIPTION:Ob klein oder groß – unter dem Motto „Zirkus Kunterbunt“ erwartet euch ein fröhlicher und bunter Nachmittag voller Spaß\, Lachen und guter Laune in Weickartshain. Freut euch auf ein liebevoll gestaltetes Programm mit Kinderschminken\, Spielen mit Prämierung und vielen weiteren kleinen Überraschungen. \nDer Kinderfasching findet am Samstag\, den 07.02.2026\, von 14:11 bis 19:11 Uhr im DGH Weickartshain statt. Einlass ist bereits ab 13:30 Uhr. Der Eintritt beträgt 3 Euro\, Kinder bis 12 Jahre haben freien Eintritt. Essen und Getränke werden zu familienfreundlichen Preisen angeboten. \n\nGemeinsam möchten Kulturring\, Schützenverein und Faschingsverein „sexuelle Schwungmasse“ unseren Kindern einen unvergesslichen Faschingsnachmittag ermöglichen.\n\n\nDie Vereine freuen sich auf viele kleine und große Närrinnen und Narren!
URL:https://weickartshain.de/veranstaltung/kinderfasching-2/
LOCATION:DGH
END:VEVENT
BEGIN:VEVENT
DTSTART;TZID=Europe/Berlin:20260218T180000
DTEND;TZID=Europe/Berlin:20260218T220000
DTSTAMP:20260422T162657
CREATED:20251204T082915Z
LAST-MODIFIED:20251209T100811Z
UID:6103-1771437600-1771452000@weickartshain.de
SUMMARY:Heringsessen
DESCRIPTION:der Landfrauen
URL:https://weickartshain.de/veranstaltung/heringsessen/
END:VEVENT
BEGIN:VEVENT
DTSTART;TZID=Europe/Berlin:20260221T200000
DTEND;TZID=Europe/Berlin:20260221T230000
DTSTAMP:20260422T162657
CREATED:20251204T083129Z
LAST-MODIFIED:20251204T083129Z
UID:6105-1771704000-1771714800@weickartshain.de
SUMMARY:Jahreshauptversammlung
DESCRIPTION:Manolinenclub
URL:https://weickartshain.de/veranstaltung/jahreshauptversammlung-18/
LOCATION:DGH
END:VEVENT
BEGIN:VEVENT
DTSTART;TZID=Europe/Berlin:20260227T190000
DTEND;TZID=Europe/Berlin:20260227T230000
DTSTAMP:20260422T162657
CREATED:20251204T083242Z
LAST-MODIFIED:20251204T083242Z
UID:6107-1772218800-1772233200@weickartshain.de
SUMMARY:Jahreshauptversammlung
DESCRIPTION:Schützenverein
URL:https://weickartshain.de/veranstaltung/jahreshauptversammlung-19/
LOCATION:DGH Schützenraum
END:VEVENT
BEGIN:VEVENT
DTSTART;TZID=Europe/Berlin:20260228T200000
DTEND;TZID=Europe/Berlin:20260228T230000
DTSTAMP:20260422T162657
CREATED:20251204T082141Z
LAST-MODIFIED:20260210T143207Z
UID:6093-1772308800-1772319600@weickartshain.de
SUMMARY:Jahreshauptversammlung
DESCRIPTION:FCW
URL:https://weickartshain.de/veranstaltung/jahreshauptversammlung-15/
LOCATION:Sportheim\, Am Sportplatz\, Weickartshain\, Hessen\, 35305
END:VEVENT
END:VCALENDAR