BEGIN:VCALENDAR
VERSION:2.0
PRODID:-//Weickartshain.de - ECPv6.15.20//NONSGML v1.0//EN
CALSCALE:GREGORIAN
METHOD:PUBLISH
X-WR-CALNAME:Weickartshain.de
X-ORIGINAL-URL:https://weickartshain.de
X-WR-CALDESC:Veranstaltungen für Weickartshain.de
REFRESH-INTERVAL;VALUE=DURATION:PT1H
X-Robots-Tag:noindex
X-PUBLISHED-TTL:PT1H
BEGIN:VTIMEZONE
TZID:Europe/Berlin
BEGIN:DAYLIGHT
TZOFFSETFROM:+0100
TZOFFSETTO:+0200
TZNAME:CEST
DTSTART:20220327T010000
END:DAYLIGHT
BEGIN:STANDARD
TZOFFSETFROM:+0200
TZOFFSETTO:+0100
TZNAME:CET
DTSTART:20221030T010000
END:STANDARD
BEGIN:DAYLIGHT
TZOFFSETFROM:+0100
TZOFFSETTO:+0200
TZNAME:CEST
DTSTART:20230326T010000
END:DAYLIGHT
BEGIN:STANDARD
TZOFFSETFROM:+0200
TZOFFSETTO:+0100
TZNAME:CET
DTSTART:20231029T010000
END:STANDARD
BEGIN:DAYLIGHT
TZOFFSETFROM:+0100
TZOFFSETTO:+0200
TZNAME:CEST
DTSTART:20240331T010000
END:DAYLIGHT
BEGIN:STANDARD
TZOFFSETFROM:+0200
TZOFFSETTO:+0100
TZNAME:CET
DTSTART:20241027T010000
END:STANDARD
END:VTIMEZONE
BEGIN:VEVENT
DTSTART;TZID=Europe/Berlin:20230518T104500
DTEND;TZID=Europe/Berlin:20230518T130000
DTSTAMP:20260425T055859
CREATED:20230419T105924Z
LAST-MODIFIED:20230419T105924Z
UID:3826-1684406700-1684414800@weickartshain.de
SUMMARY:Gottesdienst zu Christi Himmelfahrt (anschl. Mitbring-Buffet)
DESCRIPTION:
URL:https://weickartshain.de/veranstaltung/gottesdienst-zu-christi-himmelfahrt-anschl-mitbring-buffet/
LOCATION:Kirchwiese Lardenbach
END:VEVENT
BEGIN:VEVENT
DTSTART;TZID=Europe/Berlin:20230518T120000
DTEND;TZID=Europe/Berlin:20230518T170000
DTSTAMP:20260425T055859
CREATED:20221228T095349Z
LAST-MODIFIED:20230507T193410Z
UID:1825-1684411200-1684429200@weickartshain.de
SUMMARY:Vatertagsgrillen
DESCRIPTION:Der Schützenverein Weickartshain möchte in diesem Jahr an eine langjährige Tradition anknüpfen und an Christi Himmelfahrt jedermann herzlich einladen\, sich an der Grillhütte in der ehemaligen Eisenerzgrube\, der sogenannten „Eisenkaute“\, verköstigen zu lassen. Die Weickartshainer Schweiz – so der weithin bekanntere Name – stellt auch den Ausgangspunkt des Erzweg Süd dar. Dieser lädt bei schönem Wetter zu einer Wanderung durch Feld und Wald ein. Er verbindet die ehemaligen Gruben bei Weickartshain\, Freienseen\, Lardenbach und Stockhausen samt der zugehörigen Aufbereitungsstandorte miteinander und bietet durch seine ausführliche Beschilderung einen informativen Wanderweg. Es gibt doch nichts Schöneres\, als sich bei einer Ruhepause vom Wandern zu erholen\, sich mit frisch gegrillten Würstchen und Steaks\, sowie Kaffee und Kuchen zu stärken und sich währenddessen an der einzigartigen Kulisse der Weickartshainer Schweiz zu erfreuen. \nIn diesem Jahr wird zudem als Highlight erneut ein Bogen- und Armbrustschießzelt aufgestellt werden\, in dem sich alle Interessierten während der Mittagsstunden in diesen Disziplinen ausprobieren können.
URL:https://weickartshain.de/veranstaltung/vatertagsgrillen/
LOCATION:Grillhütte Eisenkaute
ATTACH;FMTTYPE=image/jpeg:https://weickartshain.de/wp-content/uploads/2022/12/photo-output.2.jpg
END:VEVENT
END:VCALENDAR