BEGIN:VCALENDAR
VERSION:2.0
PRODID:-//Weickartshain.de - ECPv6.15.20//NONSGML v1.0//EN
CALSCALE:GREGORIAN
METHOD:PUBLISH
X-WR-CALNAME:Weickartshain.de
X-ORIGINAL-URL:https://weickartshain.de
X-WR-CALDESC:Veranstaltungen für Weickartshain.de
REFRESH-INTERVAL;VALUE=DURATION:PT1H
X-Robots-Tag:noindex
X-PUBLISHED-TTL:PT1H
BEGIN:VTIMEZONE
TZID:Europe/Berlin
BEGIN:DAYLIGHT
TZOFFSETFROM:+0100
TZOFFSETTO:+0200
TZNAME:CEST
DTSTART:20220327T010000
END:DAYLIGHT
BEGIN:STANDARD
TZOFFSETFROM:+0200
TZOFFSETTO:+0100
TZNAME:CET
DTSTART:20221030T010000
END:STANDARD
BEGIN:DAYLIGHT
TZOFFSETFROM:+0100
TZOFFSETTO:+0200
TZNAME:CEST
DTSTART:20230326T010000
END:DAYLIGHT
BEGIN:STANDARD
TZOFFSETFROM:+0200
TZOFFSETTO:+0100
TZNAME:CET
DTSTART:20231029T010000
END:STANDARD
BEGIN:DAYLIGHT
TZOFFSETFROM:+0100
TZOFFSETTO:+0200
TZNAME:CEST
DTSTART:20240331T010000
END:DAYLIGHT
BEGIN:STANDARD
TZOFFSETFROM:+0200
TZOFFSETTO:+0100
TZNAME:CET
DTSTART:20241027T010000
END:STANDARD
END:VTIMEZONE
BEGIN:VEVENT
DTSTART;TZID=Europe/Berlin:20230507T123000
DTEND;TZID=Europe/Berlin:20230507T200000
DTSTAMP:20260425T055843
CREATED:20221228T095527Z
LAST-MODIFIED:20230425T124554Z
UID:1823-1683462600-1683489600@weickartshain.de
SUMMARY:Ab Nidda: Wanderung zu Steinbruch
DESCRIPTION:Der Steinbruch Michelnau ist in Europa einmalig in seiner Art. Er ist eingebettet im\ngrößten Vulkangebiet Mitteleuropas\, dem Vogelsberg. Der Vulkan Vogelsberg\nentstand in der Zeit des Tertiär\, vor ca. 19-15 Mio. Jahren und hat mit seinem\nblaugrauen Basalt unsere Region geprägt. In diesem Zeitraum entstand auch das\nMichelnauer Vorkommen am Wingertsberg. Das rote Michelnauer Gestein ist durch\neinen Schlackenvulkan entstanden und ist in seiner Farbe und Struktur in Europa\neinzigartig. Der Besuch im Steinbruch Michelnau und das Erkunden dieses Geotops\nder Extraklasse\, sind ein einmaliges Schaufenster in die Erdgeschichte\, verbunden mit\neiner noch nachvollziehbaren industriellen Vergangenheit und dem herrlichen Biotop\nin mitten großer Steinhalden. Die Wanderung von Nidda zum Steinbruch hat eine\nLänge von ca. 4 km und dauert ungefähr 1 bis1\,5 Stunden und ist daher für Groß und\nKlein geeignet. Dort angekommen machen wir eine Rast. Um 15.00 Uhr beginnt die\nFührung im Steinbruch. \nIm Anschluss an die Führung wandern wir zurück nach Nidda und kehren zum\nAbschluss in das Gasthaus „Traube“ ein.\nUm die Führung buchen zu können\, ist eine Anmeldung für diese Wanderung\nerforderlich. \nAnmeldungen bitte bis zum 01.05.2023 an den OGV
URL:https://weickartshain.de/veranstaltung/ab-nidda-wanderung-zu-steinbruch/
LOCATION:Treffpunkt Feuerwehr
ATTACH;FMTTYPE=image/jpeg:https://weickartshain.de/wp-content/uploads/2023/04/Logo-OGV-3.2.jpg
END:VEVENT
END:VCALENDAR